BEGIN:VCALENDAR
VERSION:2.0
PRODID:-//Nationalpark-Gemeinde Andau - ECPv6.15.20//NONSGML v1.0//EN
CALSCALE:GREGORIAN
METHOD:PUBLISH
X-ORIGINAL-URL:https://www.andau-gemeinde.at
X-WR-CALDESC:Veranstaltungen für Nationalpark-Gemeinde Andau
REFRESH-INTERVAL;VALUE=DURATION:PT1H
X-Robots-Tag:noindex
X-PUBLISHED-TTL:PT1H
BEGIN:VTIMEZONE
TZID:Europe/Vienna
BEGIN:DAYLIGHT
TZOFFSETFROM:+0100
TZOFFSETTO:+0200
TZNAME:CEST
DTSTART:20240331T010000
END:DAYLIGHT
BEGIN:STANDARD
TZOFFSETFROM:+0200
TZOFFSETTO:+0100
TZNAME:CET
DTSTART:20241027T010000
END:STANDARD
BEGIN:DAYLIGHT
TZOFFSETFROM:+0100
TZOFFSETTO:+0200
TZNAME:CEST
DTSTART:20250330T010000
END:DAYLIGHT
BEGIN:STANDARD
TZOFFSETFROM:+0200
TZOFFSETTO:+0100
TZNAME:CET
DTSTART:20251026T010000
END:STANDARD
BEGIN:DAYLIGHT
TZOFFSETFROM:+0100
TZOFFSETTO:+0200
TZNAME:CEST
DTSTART:20260329T010000
END:DAYLIGHT
BEGIN:STANDARD
TZOFFSETFROM:+0200
TZOFFSETTO:+0100
TZNAME:CET
DTSTART:20261025T010000
END:STANDARD
BEGIN:DAYLIGHT
TZOFFSETFROM:+0100
TZOFFSETTO:+0200
TZNAME:CEST
DTSTART:20270328T010000
END:DAYLIGHT
BEGIN:STANDARD
TZOFFSETFROM:+0200
TZOFFSETTO:+0100
TZNAME:CET
DTSTART:20271031T010000
END:STANDARD
END:VTIMEZONE
BEGIN:VEVENT
DTSTART;TZID=Europe/Vienna:20260418T190000
DTEND;TZID=Europe/Vienna:20260418T220000
DTSTAMP:20260422T165327
CREATED:20260216T120028Z
LAST-MODIFIED:20260216T120028Z
UID:3106-1776538800-1776549600@www.andau-gemeinde.at
SUMMARY:Theateraufführung "Hotel im Angebot"
DESCRIPTION:
URL:https://www.andau-gemeinde.at/veranstaltung/theaterauffuehrung-hotel-im-angebot-6/
LOCATION:Gemeindesaal Andau\, Am Badesee\, Andau\, 7163\, Österreich
ATTACH;FMTTYPE=image/jpeg:https://www.andau-gemeinde.at/wp-content/uploads/2026/02/The-Hotbed-Hotel_1.jpg
END:VEVENT
BEGIN:VEVENT
DTSTART;TZID=Europe/Vienna:20260417T190000
DTEND;TZID=Europe/Vienna:20260417T220000
DTSTAMP:20260422T165327
CREATED:20260216T115944Z
LAST-MODIFIED:20260216T115944Z
UID:3104-1776452400-1776463200@www.andau-gemeinde.at
SUMMARY:Theateraufführung "Hotel im Angebot"
DESCRIPTION:
URL:https://www.andau-gemeinde.at/veranstaltung/theaterauffuehrung-hotel-im-angebot-5/
LOCATION:Gemeindesaal Andau\, Am Badesee\, Andau\, 7163\, Österreich
ATTACH;FMTTYPE=image/jpeg:https://www.andau-gemeinde.at/wp-content/uploads/2026/02/The-Hotbed-Hotel_1.jpg
END:VEVENT
BEGIN:VEVENT
DTSTART;VALUE=DATE:20260417
DTEND;VALUE=DATE:20260419
DTSTAMP:20260422T165327
CREATED:20251201T084902Z
LAST-MODIFIED:20251212T065410Z
UID:3037-1776384000-1776556799@www.andau-gemeinde.at
SUMMARY:Burning Reeh "Grillage mit Grillmeister Patrick Bayer"
DESCRIPTION:
URL:https://www.andau-gemeinde.at/veranstaltung/burning-reeh-grillage-mit-grillmeister-patrick-bayer/
LOCATION:Weingut Hannes Reeh\, Augasse 11\, Andau\, 7163\, Austria
ATTACH;FMTTYPE=image/png:https://www.andau-gemeinde.at/wp-content/uploads/2025/12/Banner-Hannes-Reeh-2026-Burning-Reeh-01-01a-1080-x-1920-2.png
END:VEVENT
BEGIN:VEVENT
DTSTART;TZID=Europe/Vienna:20260412T180000
DTEND;TZID=Europe/Vienna:20260412T210000
DTSTAMP:20260422T165327
CREATED:20260216T115857Z
LAST-MODIFIED:20260216T115857Z
UID:3102-1776016800-1776027600@www.andau-gemeinde.at
SUMMARY:Theateraufführung "Hotel im Angebot"
DESCRIPTION:
URL:https://www.andau-gemeinde.at/veranstaltung/theaterauffuehrung-hotel-im-angebot-4/
LOCATION:Gemeindesaal Andau\, Am Badesee\, Andau\, 7163\, Österreich
ATTACH;FMTTYPE=image/jpeg:https://www.andau-gemeinde.at/wp-content/uploads/2026/02/The-Hotbed-Hotel_1.jpg
END:VEVENT
BEGIN:VEVENT
DTSTART;TZID=Europe/Vienna:20260411T190000
DTEND;TZID=Europe/Vienna:20260411T220000
DTSTAMP:20260422T165327
CREATED:20260216T115811Z
LAST-MODIFIED:20260216T115811Z
UID:3100-1775934000-1775944800@www.andau-gemeinde.at
SUMMARY:Theateraufführung "Hotel im Angebot"
DESCRIPTION:
URL:https://www.andau-gemeinde.at/veranstaltung/theaterauffuehrung-hotel-im-angebot-3/
LOCATION:Gemeindesaal Andau\, Am Badesee\, Andau\, 7163\, Österreich
ATTACH;FMTTYPE=image/jpeg:https://www.andau-gemeinde.at/wp-content/uploads/2026/02/The-Hotbed-Hotel_1.jpg
END:VEVENT
BEGIN:VEVENT
DTSTART;TZID=Europe/Vienna:20260410T190000
DTEND;TZID=Europe/Vienna:20260410T220000
DTSTAMP:20260422T165327
CREATED:20260216T115728Z
LAST-MODIFIED:20260216T115728Z
UID:3098-1775847600-1775858400@www.andau-gemeinde.at
SUMMARY:Theateraufführung "Hotel im Angebot"
DESCRIPTION:
URL:https://www.andau-gemeinde.at/veranstaltung/theaterauffuehrung-hotel-im-angebot-2/
LOCATION:Gemeindesaal Andau\, Am Badesee\, Andau\, 7163\, Österreich
ATTACH;FMTTYPE=image/jpeg:https://www.andau-gemeinde.at/wp-content/uploads/2026/02/The-Hotbed-Hotel_1.jpg
END:VEVENT
BEGIN:VEVENT
DTSTART;TZID=Europe/Vienna:20260406T180000
DTEND;TZID=Europe/Vienna:20260406T210000
DTSTAMP:20260422T165327
CREATED:20260216T115635Z
LAST-MODIFIED:20260216T120130Z
UID:3096-1775498400-1775509200@www.andau-gemeinde.at
SUMMARY:Theateraufführung "Hotel im Angebot"
DESCRIPTION:
URL:https://www.andau-gemeinde.at/veranstaltung/theaterauffuehrung-hotel-im-angebot/
LOCATION:Gemeindesaal Andau\, Am Badesee\, Andau\, 7163\, Österreich
ATTACH;FMTTYPE=image/jpeg:https://www.andau-gemeinde.at/wp-content/uploads/2026/02/The-Hotbed-Hotel_1.jpg
END:VEVENT
BEGIN:VEVENT
DTSTART;TZID=Europe/Vienna:20260404T190000
DTEND;TZID=Europe/Vienna:20260404T220000
DTSTAMP:20260422T165327
CREATED:20260216T115500Z
LAST-MODIFIED:20260216T115542Z
UID:3093-1775329200-1775340000@www.andau-gemeinde.at
SUMMARY:Theateraufführung "Hotel im Angebot"
DESCRIPTION:
URL:https://www.andau-gemeinde.at/veranstaltung/theater-hotel-im-angebot/
LOCATION:Gemeindesaal Andau\, Am Badesee\, Andau\, 7163\, Österreich
ATTACH;FMTTYPE=image/jpeg:https://www.andau-gemeinde.at/wp-content/uploads/2026/02/The-Hotbed-Hotel_1.jpg
END:VEVENT
BEGIN:VEVENT
DTSTART;VALUE=DATE:20260328
DTEND;VALUE=DATE:20260329
DTSTAMP:20260422T165327
CREATED:20251121T092529Z
LAST-MODIFIED:20251121T092529Z
UID:2958-1774656000-1774742399@www.andau-gemeinde.at
SUMMARY:Fastensuppenverkauf der Katholischen Frauenbewegung
DESCRIPTION:
URL:https://www.andau-gemeinde.at/veranstaltung/fastensuppenverkauf-der-katholischen-frauenbewegung/
LOCATION:Jugendheim\, Höchtlgasse 1\, Andau\, 7163
END:VEVENT
BEGIN:VEVENT
DTSTART;VALUE=DATE:20260322
DTEND;VALUE=DATE:20260323
DTSTAMP:20260422T165327
CREATED:20251121T092403Z
LAST-MODIFIED:20260126T070353Z
UID:2954-1774137600-1774223999@www.andau-gemeinde.at
SUMMARY:Andauer Weinfrühling
DESCRIPTION:www.andau.com
URL:https://www.andau-gemeinde.at/veranstaltung/andauer-weinfruehling/
LOCATION:Andau
ATTACH;FMTTYPE=application/pdf:https://www.andau-gemeinde.at/wp-content/uploads/2025/11/Andau_WF26_Flyer_A5_Seite-1.pdf
END:VEVENT
BEGIN:VEVENT
DTSTART;VALUE=DATE:20260321
DTEND;VALUE=DATE:20260322
DTSTAMP:20260422T165327
CREATED:20251121T092321Z
LAST-MODIFIED:20251121T092321Z
UID:2952-1774051200-1774137599@www.andau-gemeinde.at
SUMMARY:Ausschank des Tennisvereins beim Krämermarkt
DESCRIPTION:
URL:https://www.andau-gemeinde.at/veranstaltung/ausschank-des-tennisvereins-beim-kraemermarkt/
LOCATION:Dammweg\, Dammweg\, Andau\, 7163
END:VEVENT
BEGIN:VEVENT
DTSTART;VALUE=DATE:20260321
DTEND;VALUE=DATE:20260322
DTSTAMP:20260422T165327
CREATED:20251121T092114Z
LAST-MODIFIED:20260302T064441Z
UID:2950-1774051200-1774137599@www.andau-gemeinde.at
SUMMARY:Andauer Krämermarkt
DESCRIPTION:
URL:https://www.andau-gemeinde.at/veranstaltung/andauer-kraemermarkt-8/
LOCATION:Dammweg\, Dammweg\, Andau\, 7163
ATTACH;FMTTYPE=application/pdf:https://www.andau-gemeinde.at/wp-content/uploads/2025/11/Kraemermarkt2026.pdf
END:VEVENT
BEGIN:VEVENT
DTSTART;VALUE=DATE:20260315
DTEND;VALUE=DATE:20260316
DTSTAMP:20260422T165327
CREATED:20251121T092443Z
LAST-MODIFIED:20260302T064600Z
UID:2956-1773532800-1773619199@www.andau-gemeinde.at
SUMMARY:Blaskapelle Blecharanka Saisonauftakt Konzert
DESCRIPTION:
URL:https://www.andau-gemeinde.at/veranstaltung/blaskapelle-blecharanka-saisonauftakt-konzert/
LOCATION:Gemeindezentrum Halbturn\, Wr. Str. 3\, Halbturn\, 7131
ATTACH;FMTTYPE=application/pdf:https://www.andau-gemeinde.at/wp-content/uploads/2025/11/Saisonauftakt_2026_druck.pdf
END:VEVENT
BEGIN:VEVENT
DTSTART;VALUE=DATE:20260307
DTEND;VALUE=DATE:20260308
DTSTAMP:20260422T165327
CREATED:20251121T092019Z
LAST-MODIFIED:20260302T064657Z
UID:2948-1772841600-1772927999@www.andau-gemeinde.at
SUMMARY:Flurreinigung
DESCRIPTION:
URL:https://www.andau-gemeinde.at/veranstaltung/flurreinigung-2/
LOCATION:Andau
ATTACH;FMTTYPE=application/pdf:https://www.andau-gemeinde.at/wp-content/uploads/2025/11/Flurreinigung-2026.pdf
END:VEVENT
BEGIN:VEVENT
DTSTART;VALUE=DATE:20260228
DTEND;VALUE=DATE:20260301
DTSTAMP:20260422T165327
CREATED:20251201T084451Z
LAST-MODIFIED:20251212T065226Z
UID:3035-1772236800-1772323199@www.andau-gemeinde.at
SUMMARY:XL Kitchen Party
DESCRIPTION:
URL:https://www.andau-gemeinde.at/veranstaltung/xl-kitchen-party/
LOCATION:Weingut Hannes Reeh\, Augasse 11\, Andau\, 7163\, Austria
ATTACH;FMTTYPE=image/png:https://www.andau-gemeinde.at/wp-content/uploads/2025/12/Unbenannt-5.png
END:VEVENT
BEGIN:VEVENT
DTSTART;VALUE=DATE:20260217
DTEND;VALUE=DATE:20260218
DTSTAMP:20260422T165327
CREATED:20251121T091929Z
LAST-MODIFIED:20260119T070742Z
UID:2946-1771286400-1771372799@www.andau-gemeinde.at
SUMMARY:Kinderfasching & Faschingsparty
DESCRIPTION:
URL:https://www.andau-gemeinde.at/veranstaltung/kinderfasching-faschingsparty-2/
LOCATION:beheiztes Festzelt
ATTACH;FMTTYPE=application/pdf:https://www.andau-gemeinde.at/wp-content/uploads/2025/11/Plakat_A0_mSp-2.pdf
END:VEVENT
BEGIN:VEVENT
DTSTART;VALUE=DATE:20260215
DTEND;VALUE=DATE:20260216
DTSTAMP:20260422T165327
CREATED:20251121T091813Z
LAST-MODIFIED:20260119T070221Z
UID:2944-1771113600-1771199999@www.andau-gemeinde.at
SUMMARY:Faschingsumzug
DESCRIPTION:
URL:https://www.andau-gemeinde.at/veranstaltung/faschingsumzug-2/
LOCATION:Andau
ATTACH;FMTTYPE=application/pdf:https://www.andau-gemeinde.at/wp-content/uploads/2025/11/Plakat_A0_mSp.pdf
END:VEVENT
BEGIN:VEVENT
DTSTART;VALUE=DATE:20260131
DTEND;VALUE=DATE:20260201
DTSTAMP:20260422T165327
CREATED:20251121T091242Z
LAST-MODIFIED:20251121T091242Z
UID:2940-1769817600-1769903999@www.andau-gemeinde.at
SUMMARY:Bratwürstelschnapsen FC Andau
DESCRIPTION:
URL:https://www.andau-gemeinde.at/veranstaltung/bratwuerstelschnapsen-fc-andau/
LOCATION:Sportplatz\, Hansaggasse 64\, Andau\, 7163
END:VEVENT
BEGIN:VEVENT
DTSTART;VALUE=DATE:20260131
DTEND;VALUE=DATE:20260201
DTSTAMP:20260422T165327
CREATED:20251121T091209Z
LAST-MODIFIED:20251121T091209Z
UID:2938-1769817600-1769903999@www.andau-gemeinde.at
SUMMARY:Frauenkränzchen der Katholischen Frauenbewegung
DESCRIPTION:
URL:https://www.andau-gemeinde.at/veranstaltung/frauenkraenzchen-der-katholischen-frauenbewegung-2/
LOCATION:Gemeindesaal Andau\, Am Badesee\, Andau\, 7163\, Österreich
END:VEVENT
BEGIN:VEVENT
DTSTART;VALUE=DATE:20260117
DTEND;VALUE=DATE:20260118
DTSTAMP:20260422T165327
CREATED:20251121T074844Z
LAST-MODIFIED:20251121T074844Z
UID:2936-1768608000-1768694399@www.andau-gemeinde.at
SUMMARY:Ball der FF Andau
DESCRIPTION:
URL:https://www.andau-gemeinde.at/veranstaltung/ball-der-ff-andau/
LOCATION:Gemeindesaal Andau\, Am Badesee\, Andau\, 7163\, Österreich
END:VEVENT
BEGIN:VEVENT
DTSTART;TZID=Europe/Vienna:20260116T140000
DTEND;TZID=Europe/Vienna:20260116T200000
DTSTAMP:20260422T165327
CREATED:20251121T074721Z
LAST-MODIFIED:20251121T074721Z
UID:2934-1768572000-1768593600@www.andau-gemeinde.at
SUMMARY:Faschingskränzchen des Pensionistenverbandes Andau
DESCRIPTION:
URL:https://www.andau-gemeinde.at/veranstaltung/faschingskraenzchen-des-pensionistenverbandes-andau/
LOCATION:Gemeindesaal Andau\, Am Badesee\, Andau\, 7163\, Österreich
END:VEVENT
BEGIN:VEVENT
DTSTART;VALUE=DATE:20260105
DTEND;VALUE=DATE:20260106
DTSTAMP:20260422T165327
CREATED:20251121T073858Z
LAST-MODIFIED:20251121T073858Z
UID:2932-1767571200-1767657599@www.andau-gemeinde.at
SUMMARY:Abschluss der Punschhütte der FF Andau
DESCRIPTION:
URL:https://www.andau-gemeinde.at/veranstaltung/abschluss-der-punschhuette-der-ff-andau/
LOCATION:Feuerwehrhaus\, Neubauviertel 1\, Andau\, 7163
END:VEVENT
BEGIN:VEVENT
DTSTART;VALUE=DATE:20251227
DTEND;VALUE=DATE:20251229
DTSTAMP:20260422T165327
CREATED:20241211T115007Z
LAST-MODIFIED:20241211T115007Z
UID:2687-1766793600-1766966399@www.andau-gemeinde.at
SUMMARY:Silvesterblasen des Musikvereins
DESCRIPTION:
URL:https://www.andau-gemeinde.at/veranstaltung/silvesterblasen-des-musikvereins/
LOCATION:Burgenland
END:VEVENT
BEGIN:VEVENT
DTSTART;VALUE=DATE:20251221
DTEND;VALUE=DATE:20251222
DTSTAMP:20260422T165327
CREATED:20241211T114927Z
LAST-MODIFIED:20241211T114927Z
UID:2685-1766275200-1766361599@www.andau-gemeinde.at
SUMMARY:Adventkonzert des Grenzlandchors
DESCRIPTION:
URL:https://www.andau-gemeinde.at/veranstaltung/adventkonzert-des-grenzlandchors/
LOCATION:Pfarrkirche Andau\, Hauptgasse\, Andau\, 7163\, Österreich
END:VEVENT
BEGIN:VEVENT
DTSTART;VALUE=DATE:20251220
DTEND;VALUE=DATE:20251221
DTSTAMP:20260422T165327
CREATED:20250828T075841Z
LAST-MODIFIED:20250916T083328Z
UID:2815-1766188800-1766275199@www.andau-gemeinde.at
SUMMARY:Winterzauber auf der Alpaka Weide 2025
DESCRIPTION:Verkauf von Alpaka Produkten auf der Alpaka Weide
URL:https://www.andau-gemeinde.at/veranstaltung/winterzauber-auf-der-alpaka-weide-2025-3/
LOCATION:Alpaka Weide\, Ödenburgerstraße 100 - hintaus Badesee\, Andau\, 7163\, Austria
ATTACH;FMTTYPE=image/png:https://www.andau-gemeinde.at/wp-content/uploads/2025/08/Winterzauber-2025-hoch.png
END:VEVENT
BEGIN:VEVENT
DTSTART;TZID=Europe/Vienna:20251214T140000
DTEND;TZID=Europe/Vienna:20251214T160000
DTSTAMP:20260422T165327
CREATED:20251027T085418Z
LAST-MODIFIED:20251027T091608Z
UID:2921-1765720800-1765728000@www.andau-gemeinde.at
SUMMARY:Weihnachtsfeier mit Weihnachtsshow Reiterhof Romy
DESCRIPTION:Punsch & Kekse gratis\nFreie Spende für den Verein
URL:https://www.andau-gemeinde.at/veranstaltung/weihnachtsfeier-mit-weihnachtsshow/
LOCATION:Reiterhof Romy
END:VEVENT
BEGIN:VEVENT
DTSTART;VALUE=DATE:20251214
DTEND;VALUE=DATE:20251215
DTSTAMP:20260422T165327
CREATED:20241211T114845Z
LAST-MODIFIED:20241211T114845Z
UID:2683-1765670400-1765756799@www.andau-gemeinde.at
SUMMARY:Adventfeier mit der Katholischen Frauenbewegung und dem Kirchenchor St. Nikolaus
DESCRIPTION:
URL:https://www.andau-gemeinde.at/veranstaltung/adventfeier-mit-der-katholischen-frauenbewegung-und-dem-kirchenchor-st-nikolaus/
LOCATION:Pfarrkirche Andau\, Hauptgasse\, Andau\, 7163\, Österreich
END:VEVENT
BEGIN:VEVENT
DTSTART;VALUE=DATE:20251207
DTEND;VALUE=DATE:20251208
DTSTAMP:20260422T165327
CREATED:20241211T114753Z
LAST-MODIFIED:20241211T114753Z
UID:2681-1765065600-1765151999@www.andau-gemeinde.at
SUMMARY:Konzert im Advent - Musikverein Andau
DESCRIPTION:
URL:https://www.andau-gemeinde.at/veranstaltung/konzert-im-advent-musikverein-andau/
LOCATION:Heideboden Schule\, Schulgasse 3\, Andau\, 7163
END:VEVENT
BEGIN:VEVENT
DTSTART;VALUE=DATE:20251206
DTEND;VALUE=DATE:20251207
DTSTAMP:20260422T165327
CREATED:20250828T075806Z
LAST-MODIFIED:20250916T083621Z
UID:2813-1764979200-1765065599@www.andau-gemeinde.at
SUMMARY:Winterzauber auf der Alpaka Weide 2025
DESCRIPTION:Verkauf von Alpaka Produkten mit Besuch vom Nikolaus
URL:https://www.andau-gemeinde.at/veranstaltung/winterzauber-auf-der-alpaka-weide-2025-2/
LOCATION:Alpaka Weide\, Ödenburgerstraße 100 - hintaus Badesee\, Andau\, 7163\, Austria
ATTACH;FMTTYPE=image/png:https://www.andau-gemeinde.at/wp-content/uploads/2025/08/Winterzauber-2025-hoch.png
END:VEVENT
BEGIN:VEVENT
DTSTART;VALUE=DATE:20251130
DTEND;VALUE=DATE:20251201
DTSTAMP:20260422T165327
CREATED:20241211T114656Z
LAST-MODIFIED:20241211T114656Z
UID:2679-1764460800-1764547199@www.andau-gemeinde.at
SUMMARY:27. Andauer Christkindlmarkt
DESCRIPTION:
URL:https://www.andau-gemeinde.at/veranstaltung/27-andauer-christkindlmarkt/
LOCATION:Hauptgasse\, Andau\, 7163
END:VEVENT
END:VCALENDAR