BEGIN:VCALENDAR
VERSION:2.0
PRODID:-//Nationalpark-Gemeinde Andau - ECPv6.15.20//NONSGML v1.0//EN
CALSCALE:GREGORIAN
METHOD:PUBLISH
X-WR-CALNAME:Nationalpark-Gemeinde Andau
X-ORIGINAL-URL:https://www.andau-gemeinde.at
X-WR-CALDESC:Veranstaltungen für Nationalpark-Gemeinde Andau
REFRESH-INTERVAL;VALUE=DURATION:PT1H
X-Robots-Tag:noindex
X-PUBLISHED-TTL:PT1H
BEGIN:VTIMEZONE
TZID:Europe/Vienna
BEGIN:DAYLIGHT
TZOFFSETFROM:+0100
TZOFFSETTO:+0200
TZNAME:CEST
DTSTART:20250330T010000
END:DAYLIGHT
BEGIN:STANDARD
TZOFFSETFROM:+0200
TZOFFSETTO:+0100
TZNAME:CET
DTSTART:20251026T010000
END:STANDARD
BEGIN:DAYLIGHT
TZOFFSETFROM:+0100
TZOFFSETTO:+0200
TZNAME:CEST
DTSTART:20260329T010000
END:DAYLIGHT
BEGIN:STANDARD
TZOFFSETFROM:+0200
TZOFFSETTO:+0100
TZNAME:CET
DTSTART:20261025T010000
END:STANDARD
BEGIN:DAYLIGHT
TZOFFSETFROM:+0100
TZOFFSETTO:+0200
TZNAME:CEST
DTSTART:20270328T010000
END:DAYLIGHT
BEGIN:STANDARD
TZOFFSETFROM:+0200
TZOFFSETTO:+0100
TZNAME:CET
DTSTART:20271031T010000
END:STANDARD
END:VTIMEZONE
BEGIN:VEVENT
DTSTART;VALUE=DATE:20260604
DTEND;VALUE=DATE:20260605
DTSTAMP:20260422T165115
CREATED:20251127T125436Z
LAST-MODIFIED:20251127T125436Z
UID:2987-1780531200-1780617599@www.andau-gemeinde.at
SUMMARY:Fronleichnamsprozession
DESCRIPTION:
URL:https://www.andau-gemeinde.at/veranstaltung/fronleichnamsprozession-3/
END:VEVENT
BEGIN:VEVENT
DTSTART;VALUE=DATE:20260620
DTEND;VALUE=DATE:20260621
DTSTAMP:20260422T165115
CREATED:20251127T125646Z
LAST-MODIFIED:20251128T103522Z
UID:2989-1781913600-1781999999@www.andau-gemeinde.at
SUMMARY:Soccer Turnier mit Ausschank der Andauer Jugend
DESCRIPTION:
URL:https://www.andau-gemeinde.at/veranstaltung/soccer-turnier-mit-ausschank-der-andauer-jugend/
LOCATION:Funcourt\, Dammweg\, Andau\, Burgenland\, 7163\, Austria
END:VEVENT
BEGIN:VEVENT
DTSTART;VALUE=DATE:20260627
DTEND;VALUE=DATE:20260628
DTSTAMP:20260422T165115
CREATED:20251128T103637Z
LAST-MODIFIED:20251128T103637Z
UID:2997-1782518400-1782604799@www.andau-gemeinde.at
SUMMARY:SPÖ Sommerfest
DESCRIPTION:
URL:https://www.andau-gemeinde.at/veranstaltung/spoe-sommerfest/
LOCATION:Badesee Andau\, Ödenburgerstraße 100\, Andau\, 7163\, Österreich
END:VEVENT
BEGIN:VEVENT
DTSTART;VALUE=DATE:20260704
DTEND;VALUE=DATE:20260705
DTSTAMP:20260422T165115
CREATED:20251128T103722Z
LAST-MODIFIED:20251128T103722Z
UID:2999-1783123200-1783209599@www.andau-gemeinde.at
SUMMARY:Die Wiaschtlkantn der Andauer Jugend
DESCRIPTION:
URL:https://www.andau-gemeinde.at/veranstaltung/die-wiaschtlkantn-der-andauer-jugend/
LOCATION:Funcourt\, Dammweg\, Andau\, Burgenland\, 7163\, Austria
END:VEVENT
BEGIN:VEVENT
DTSTART;TZID=Europe/Vienna:20260710T140000
DTEND;TZID=Europe/Vienna:20260710T200000
DTSTAMP:20260422T165115
CREATED:20251128T103850Z
LAST-MODIFIED:20251128T104032Z
UID:3001-1783692000-1783713600@www.andau-gemeinde.at
SUMMARY:Grillfest Pensionistenverband Andau
DESCRIPTION:
URL:https://www.andau-gemeinde.at/veranstaltung/grillfest-pensionistenverband-andau/
LOCATION:Badesee Andau\, Ödenburgerstraße 100\, Andau\, 7163\, Österreich
END:VEVENT
BEGIN:VEVENT
DTSTART;VALUE=DATE:20260814
DTEND;VALUE=DATE:20260815
DTSTAMP:20260422T165115
CREATED:20251201T085214Z
LAST-MODIFIED:20251201T085214Z
UID:3041-1786665600-1786751999@www.andau-gemeinde.at
SUMMARY:Unplugged Music & Wine
DESCRIPTION:
URL:https://www.andau-gemeinde.at/veranstaltung/unplugged-music-wine/
LOCATION:Weingut Hannes Reeh\, Augasse 11\, Andau\, 7163\, Austria
ORGANIZER;CN="Weingut Hannes Reeh":MAILTO:wein@hannesreeh.at
END:VEVENT
BEGIN:VEVENT
DTSTART;VALUE=DATE:20260815
DTEND;VALUE=DATE:20260816
DTSTAMP:20260422T165115
CREATED:20251128T103948Z
LAST-MODIFIED:20251128T103948Z
UID:3003-1786752000-1786838399@www.andau-gemeinde.at
SUMMARY:Schmoizbrotparty Musikverein Andau
DESCRIPTION:
URL:https://www.andau-gemeinde.at/veranstaltung/schmoizbrotparty-musikverein-andau-2/
LOCATION:Park („alter Kindergarten“)
END:VEVENT
BEGIN:VEVENT
DTSTART;VALUE=DATE:20260822
DTEND;VALUE=DATE:20260824
DTSTAMP:20260422T165115
CREATED:20251128T104314Z
LAST-MODIFIED:20251128T104314Z
UID:3005-1787356800-1787529599@www.andau-gemeinde.at
SUMMARY:Feuerwehrheuriger FF Andau
DESCRIPTION:
URL:https://www.andau-gemeinde.at/veranstaltung/feuerwehrheuriger-ff-andau-2/
LOCATION:Feuerwehrhaus\, Neubauviertel 1\, Andau\, 7163
END:VEVENT
BEGIN:VEVENT
DTSTART;VALUE=DATE:20260829
DTEND;VALUE=DATE:20260830
DTSTAMP:20260422T165115
CREATED:20251128T104356Z
LAST-MODIFIED:20251128T104356Z
UID:3007-1787961600-1788047999@www.andau-gemeinde.at
SUMMARY:Andauer Krämermarkt
DESCRIPTION:
URL:https://www.andau-gemeinde.at/veranstaltung/andauer-kraemermarkt-10/
LOCATION:Dammweg\, Dammweg\, Andau\, 7163
END:VEVENT
BEGIN:VEVENT
DTSTART;VALUE=DATE:20261025
DTEND;VALUE=DATE:20261026
DTSTAMP:20260422T165115
CREATED:20251128T104519Z
LAST-MODIFIED:20251128T104519Z
UID:3009-1792886400-1792972799@www.andau-gemeinde.at
SUMMARY:Pfarrfest in der Hall of Legends
DESCRIPTION:
URL:https://www.andau-gemeinde.at/veranstaltung/pfarrfest-in-der-hall-of-legends/
LOCATION:Hall of Legends\, Halbturnerstraße 1a\, Andau\, 7163\, Austria
END:VEVENT
BEGIN:VEVENT
DTSTART;VALUE=DATE:20261031
DTEND;VALUE=DATE:20261101
DTSTAMP:20260422T165115
CREATED:20251128T104605Z
LAST-MODIFIED:20251128T104605Z
UID:3011-1793404800-1793491199@www.andau-gemeinde.at
SUMMARY:Nacht der tausend Lichter
DESCRIPTION:
URL:https://www.andau-gemeinde.at/veranstaltung/nacht-der-tausend-lichter-3/
LOCATION:Pfarrkirche Andau\, Hauptgasse\, Andau\, 7163\, Österreich
END:VEVENT
BEGIN:VEVENT
DTSTART;VALUE=DATE:20261031
DTEND;VALUE=DATE:20261101
DTSTAMP:20260422T165115
CREATED:20251128T104656Z
LAST-MODIFIED:20251128T104656Z
UID:3013-1793404800-1793491199@www.andau-gemeinde.at
SUMMARY:Halloween der SPÖ Frauen
DESCRIPTION:
URL:https://www.andau-gemeinde.at/veranstaltung/halloween-der-spoe-frauen/
LOCATION:Park („alter Kindergarten“)
END:VEVENT
BEGIN:VEVENT
DTSTART;VALUE=DATE:20261108
DTEND;VALUE=DATE:20261109
DTSTAMP:20260422T165115
CREATED:20251128T105130Z
LAST-MODIFIED:20251128T105130Z
UID:3015-1794096000-1794182399@www.andau-gemeinde.at
SUMMARY:Andauer Weinherbst
DESCRIPTION:
URL:https://www.andau-gemeinde.at/veranstaltung/andauer-weinherbst/
END:VEVENT
BEGIN:VEVENT
DTSTART;VALUE=DATE:20261121
DTEND;VALUE=DATE:20261122
DTSTAMP:20260422T165115
CREATED:20251128T105415Z
LAST-MODIFIED:20251128T105415Z
UID:3017-1795219200-1795305599@www.andau-gemeinde.at
SUMMARY:Punschhütte - Einläuten der kalten Jahreszeit der Andauer Jugend
DESCRIPTION:
URL:https://www.andau-gemeinde.at/veranstaltung/punschhuette-einlaeuten-der-kalten-jahreszeit-der-andauer-jugend/
LOCATION:Park („alter Kindergarten“)
END:VEVENT
BEGIN:VEVENT
DTSTART;VALUE=DATE:20261128
DTEND;VALUE=DATE:20261129
DTSTAMP:20260422T165115
CREATED:20251128T105458Z
LAST-MODIFIED:20251128T105458Z
UID:3019-1795824000-1795910399@www.andau-gemeinde.at
SUMMARY:Sautanz beim Andauer Krämermarkt FF Andau
DESCRIPTION:
URL:https://www.andau-gemeinde.at/veranstaltung/sautanz-beim-andauer-kraemermarkt-ff-andau/
LOCATION:Feuerwehrhaus\, Neubauviertel 1\, Andau\, 7163
END:VEVENT
BEGIN:VEVENT
DTSTART;VALUE=DATE:20261128
DTEND;VALUE=DATE:20261129
DTSTAMP:20260422T165115
CREATED:20251128T105533Z
LAST-MODIFIED:20251128T105533Z
UID:3021-1795824000-1795910399@www.andau-gemeinde.at
SUMMARY:Andauer Krämermarkt
DESCRIPTION:
URL:https://www.andau-gemeinde.at/veranstaltung/andauer-kraemermarkt-11/
LOCATION:Dammweg\, Dammweg\, Andau\, 7163
END:VEVENT
BEGIN:VEVENT
DTSTART;VALUE=DATE:20261129
DTEND;VALUE=DATE:20261130
DTSTAMP:20260422T165115
CREATED:20251128T105608Z
LAST-MODIFIED:20251128T105608Z
UID:3023-1795910400-1795996799@www.andau-gemeinde.at
SUMMARY:28. Andauer Christkindlmarkt
DESCRIPTION:
URL:https://www.andau-gemeinde.at/veranstaltung/28-andauer-christkindlmarkt/
LOCATION:Hauptgasse\, Andau\, 7163
END:VEVENT
BEGIN:VEVENT
DTSTART;VALUE=DATE:20261204
DTEND;VALUE=DATE:20261205
DTSTAMP:20260422T165115
CREATED:20251128T105649Z
LAST-MODIFIED:20251128T105649Z
UID:3025-1796342400-1796428799@www.andau-gemeinde.at
SUMMARY:Messe für ältere Leute - Katholische Frauenbewegung
DESCRIPTION:
URL:https://www.andau-gemeinde.at/veranstaltung/messe-fuer-aeltere-leute-katholische-frauenbewegung/
LOCATION:Jugendheim Andau
END:VEVENT
BEGIN:VEVENT
DTSTART;VALUE=DATE:20261206
DTEND;VALUE=DATE:20261207
DTSTAMP:20260422T165115
CREATED:20251128T105839Z
LAST-MODIFIED:20251128T105839Z
UID:3029-1796515200-1796601599@www.andau-gemeinde.at
SUMMARY:Konzert im Advent vom Musikverein Andau
DESCRIPTION:
URL:https://www.andau-gemeinde.at/veranstaltung/konzert-im-advent-vom-musikverein-andau/
END:VEVENT
BEGIN:VEVENT
DTSTART;VALUE=DATE:20261208
DTEND;VALUE=DATE:20261209
DTSTAMP:20260422T165115
CREATED:20251128T105737Z
LAST-MODIFIED:20251128T105737Z
UID:3027-1796688000-1796774399@www.andau-gemeinde.at
SUMMARY:Seniorenmesse - Seniorenbund Andau
DESCRIPTION:
URL:https://www.andau-gemeinde.at/veranstaltung/seniorenmesse-seniorenbund-andau/
LOCATION:Pfarrkirche Andau\, Hauptgasse\, Andau\, 7163\, Österreich
END:VEVENT
BEGIN:VEVENT
DTSTART;VALUE=DATE:20261213
DTEND;VALUE=DATE:20261214
DTSTAMP:20260422T165115
CREATED:20251128T105925Z
LAST-MODIFIED:20251128T105925Z
UID:3031-1797120000-1797206399@www.andau-gemeinde.at
SUMMARY:Adventfeier mit der Katholischen Frauenbewegung und dem Kirchenchor St. Nikolaus
DESCRIPTION:
URL:https://www.andau-gemeinde.at/veranstaltung/adventfeier-mit-der-katholischen-frauenbewegung-und-dem-kirchenchor-st-nikolaus-2/
LOCATION:Pfarrkirche Andau\, Hauptgasse\, Andau\, 7163\, Österreich
END:VEVENT
BEGIN:VEVENT
DTSTART;VALUE=DATE:20261228
DTEND;VALUE=DATE:20261230
DTSTAMP:20260422T165115
CREATED:20251128T110026Z
LAST-MODIFIED:20251128T110026Z
UID:3033-1798416000-1798588799@www.andau-gemeinde.at
SUMMARY:Silvesterblasen - Musikverein Andau
DESCRIPTION:
URL:https://www.andau-gemeinde.at/veranstaltung/silvesterblasen-musikverein-andau/
LOCATION:Andau
END:VEVENT
END:VCALENDAR