BEGIN:VCALENDAR
VERSION:2.0
PRODID:-//Nationalpark-Gemeinde Andau - ECPv6.15.20//NONSGML v1.0//EN
CALSCALE:GREGORIAN
METHOD:PUBLISH
X-ORIGINAL-URL:https://www.andau-gemeinde.at
X-WR-CALDESC:Veranstaltungen für Nationalpark-Gemeinde Andau
REFRESH-INTERVAL;VALUE=DURATION:PT1H
X-Robots-Tag:noindex
X-PUBLISHED-TTL:PT1H
BEGIN:VTIMEZONE
TZID:Europe/Vienna
BEGIN:DAYLIGHT
TZOFFSETFROM:+0100
TZOFFSETTO:+0200
TZNAME:CEST
DTSTART:20250330T010000
END:DAYLIGHT
BEGIN:STANDARD
TZOFFSETFROM:+0200
TZOFFSETTO:+0100
TZNAME:CET
DTSTART:20251026T010000
END:STANDARD
BEGIN:DAYLIGHT
TZOFFSETFROM:+0100
TZOFFSETTO:+0200
TZNAME:CEST
DTSTART:20260329T010000
END:DAYLIGHT
BEGIN:STANDARD
TZOFFSETFROM:+0200
TZOFFSETTO:+0100
TZNAME:CET
DTSTART:20261025T010000
END:STANDARD
BEGIN:DAYLIGHT
TZOFFSETFROM:+0100
TZOFFSETTO:+0200
TZNAME:CEST
DTSTART:20270328T010000
END:DAYLIGHT
BEGIN:STANDARD
TZOFFSETFROM:+0200
TZOFFSETTO:+0100
TZNAME:CET
DTSTART:20271031T010000
END:STANDARD
END:VTIMEZONE
BEGIN:VEVENT
DTSTART;VALUE=DATE:20260430
DTEND;VALUE=DATE:20260504
DTSTAMP:20260422T182345
CREATED:20251121T093207Z
LAST-MODIFIED:20251121T093207Z
UID:2962-1777507200-1777852799@www.andau-gemeinde.at
SUMMARY:Bezirks Tennisturnier - Tennisverein Andau
DESCRIPTION:
URL:https://www.andau-gemeinde.at/veranstaltung/bezirks-tennisturnier-tennisverein-andau-2/
LOCATION:Badesee Andau – Tennisplatz\, Ödenburgerstraße 100\, Andau\, Burgenland\, 7163\, Österreich
END:VEVENT
BEGIN:VEVENT
DTSTART;VALUE=DATE:20260501
DTEND;VALUE=DATE:20260502
DTSTAMP:20260422T182345
CREATED:20251127T124922Z
LAST-MODIFIED:20251127T124922Z
UID:2971-1777593600-1777679999@www.andau-gemeinde.at
SUMMARY:Muttertagsfeier SPÖ Andau
DESCRIPTION:
URL:https://www.andau-gemeinde.at/veranstaltung/muttertagsfeier-spoe-andau-2/
LOCATION:Gemeindesaal Andau\, Am Badesee\, Andau\, 7163\, Österreich
END:VEVENT
BEGIN:VEVENT
DTSTART;VALUE=DATE:20260503
DTEND;VALUE=DATE:20260504
DTSTAMP:20260422T182345
CREATED:20251127T124954Z
LAST-MODIFIED:20260325T071741Z
UID:2973-1777766400-1777852799@www.andau-gemeinde.at
SUMMARY:Fahrzeugsegnung FF-Andau
DESCRIPTION:Die Gemeinde Andau und die Freiwillige Feuerwehr Andau laden herzlich zur Segnung des neuen Tanklöschfahrzeuges TLF 1000 ein. Die feierliche Segnung findet am 3. Mai um 9:30 Uhr im Rahmen eines Festgottesdienstes im Feuerwehrhaus statt. Anschließend sind alle Besucherinnen und Besucher zu einem gemütlichen Beisammensein bei Speis und Trank eingeladen. Wir freuen uns auf Ihr Kommen!
URL:https://www.andau-gemeinde.at/veranstaltung/tag-der-feuerwehr-3/
LOCATION:Feuerwehrhaus\, Neubauviertel 1\, Andau\, 7163
ATTACH;FMTTYPE=image/jpeg:https://www.andau-gemeinde.at/wp-content/uploads/2025/11/IMG_1970-scaled.jpeg
END:VEVENT
BEGIN:VEVENT
DTSTART;TZID=Europe/Vienna:20260509T120000
DTEND;TZID=Europe/Vienna:20260509T180000
DTSTAMP:20260422T182345
CREATED:20260312T071413Z
LAST-MODIFIED:20260312T083621Z
UID:3113-1778328000-1778349600@www.andau-gemeinde.at
SUMMARY:THE BUTCHER´S WEIN & SCHWEIN
DESCRIPTION:
URL:https://www.andau-gemeinde.at/veranstaltung/the-butchers-wein-schwein-the-butchers-wein-schwein/
LOCATION:Weingut Schwarz\, Baumhöhäcker 16\, 7163\, Burgenland\, 7163\, Austria
ATTACH;FMTTYPE=image/jpeg:https://www.andau-gemeinde.at/wp-content/uploads/2026/03/WS-2026-900x1500-1.jpg
ORGANIZER;CN="Weingut Schwarz":MAILTO:info@schwarz-management.at
END:VEVENT
BEGIN:VEVENT
DTSTART;VALUE=DATE:20260514
DTEND;VALUE=DATE:20260515
DTSTAMP:20260422T182345
CREATED:20251127T125027Z
LAST-MODIFIED:20251127T125027Z
UID:2975-1778716800-1778803199@www.andau-gemeinde.at
SUMMARY:Erstkommunion
DESCRIPTION:
URL:https://www.andau-gemeinde.at/veranstaltung/erstkommunion-3/
LOCATION:Pfarrkirche Andau\, Hauptgasse\, Andau\, 7163\, Österreich
END:VEVENT
BEGIN:VEVENT
DTSTART;VALUE=DATE:20260517
DTEND;VALUE=DATE:20260518
DTSTAMP:20260422T182345
CREATED:20251127T125112Z
LAST-MODIFIED:20251127T125112Z
UID:2977-1778976000-1779062399@www.andau-gemeinde.at
SUMMARY:Kirtagsausschank der FF-Andau
DESCRIPTION:
URL:https://www.andau-gemeinde.at/veranstaltung/kirtagsausschank-der-ff-andau/
LOCATION:Feuerwehrhaus\, Neubauviertel 1\, Andau\, 7163
END:VEVENT
BEGIN:VEVENT
DTSTART;VALUE=DATE:20260517
DTEND;VALUE=DATE:20260518
DTSTAMP:20260422T182345
CREATED:20251127T125155Z
LAST-MODIFIED:20251127T125155Z
UID:2979-1778976000-1779062399@www.andau-gemeinde.at
SUMMARY:Kirtag
DESCRIPTION:
URL:https://www.andau-gemeinde.at/veranstaltung/kirtag/
LOCATION:Dammweg\, Dammweg\, Andau\, 7163
END:VEVENT
BEGIN:VEVENT
DTSTART;VALUE=DATE:20260523
DTEND;VALUE=DATE:20260524
DTSTAMP:20260422T182345
CREATED:20251127T125224Z
LAST-MODIFIED:20251127T125224Z
UID:2981-1779494400-1779580799@www.andau-gemeinde.at
SUMMARY:Andauer Krämermarkt
DESCRIPTION:
URL:https://www.andau-gemeinde.at/veranstaltung/andauer-kraemermarkt-9/
LOCATION:Dammweg\, Dammweg\, Andau\, 7163
END:VEVENT
BEGIN:VEVENT
DTSTART;VALUE=DATE:20260523
DTEND;VALUE=DATE:20260525
DTSTAMP:20260422T182345
CREATED:20251127T125315Z
LAST-MODIFIED:20251127T125315Z
UID:2983-1779494400-1779667199@www.andau-gemeinde.at
SUMMARY:Sportfest FC Andau
DESCRIPTION:
URL:https://www.andau-gemeinde.at/veranstaltung/sportfest-fc-andau-3/
LOCATION:Sportplatz\, Hansaggasse 64\, Andau\, 7163
END:VEVENT
BEGIN:VEVENT
DTSTART;VALUE=DATE:20260525
DTEND;VALUE=DATE:20260526
DTSTAMP:20260422T182345
CREATED:20251127T125359Z
LAST-MODIFIED:20251127T125359Z
UID:2985-1779667200-1779753599@www.andau-gemeinde.at
SUMMARY:Messe am Andreasberg
DESCRIPTION:
URL:https://www.andau-gemeinde.at/veranstaltung/messe-am-andreasberg-3/
LOCATION:Andreasberg\, Andreasberg\, Andau\, 7163
END:VEVENT
BEGIN:VEVENT
DTSTART;VALUE=DATE:20260530
DTEND;VALUE=DATE:20260531
DTSTAMP:20260422T182345
CREATED:20251201T085134Z
LAST-MODIFIED:20251201T085134Z
UID:3039-1780099200-1780185599@www.andau-gemeinde.at
SUMMARY:Hoffest "Season Opening"
DESCRIPTION:
URL:https://www.andau-gemeinde.at/veranstaltung/hoffest-season-opening/
LOCATION:Weingut Hannes Reeh\, Augasse 11\, Andau\, 7163\, Austria
END:VEVENT
END:VCALENDAR